BEGIN:VCALENDAR
VERSION:2.0
PRODID:-//Agesci Liguria - ECPv6.15.20//NONSGML v1.0//EN
CALSCALE:GREGORIAN
METHOD:PUBLISH
X-ORIGINAL-URL:https://liguria.agesci.it
X-WR-CALDESC:Eventi per Agesci Liguria
REFRESH-INTERVAL;VALUE=DURATION:PT1H
X-Robots-Tag:noindex
X-PUBLISHED-TTL:PT1H
BEGIN:VTIMEZONE
TZID:Europe/Rome
BEGIN:DAYLIGHT
TZOFFSETFROM:+0100
TZOFFSETTO:+0200
TZNAME:CEST
DTSTART:20210328T010000
END:DAYLIGHT
BEGIN:STANDARD
TZOFFSETFROM:+0200
TZOFFSETTO:+0100
TZNAME:CET
DTSTART:20211031T010000
END:STANDARD
BEGIN:DAYLIGHT
TZOFFSETFROM:+0100
TZOFFSETTO:+0200
TZNAME:CEST
DTSTART:20220327T010000
END:DAYLIGHT
BEGIN:STANDARD
TZOFFSETFROM:+0200
TZOFFSETTO:+0100
TZNAME:CET
DTSTART:20221030T010000
END:STANDARD
BEGIN:DAYLIGHT
TZOFFSETFROM:+0100
TZOFFSETTO:+0200
TZNAME:CEST
DTSTART:20230326T010000
END:DAYLIGHT
BEGIN:STANDARD
TZOFFSETFROM:+0200
TZOFFSETTO:+0100
TZNAME:CET
DTSTART:20231029T010000
END:STANDARD
BEGIN:DAYLIGHT
TZOFFSETFROM:+0100
TZOFFSETTO:+0200
TZNAME:CEST
DTSTART:20240331T010000
END:DAYLIGHT
BEGIN:STANDARD
TZOFFSETFROM:+0200
TZOFFSETTO:+0100
TZNAME:CET
DTSTART:20241027T010000
END:STANDARD
BEGIN:DAYLIGHT
TZOFFSETFROM:+0100
TZOFFSETTO:+0200
TZNAME:CEST
DTSTART:20250330T010000
END:DAYLIGHT
BEGIN:STANDARD
TZOFFSETFROM:+0200
TZOFFSETTO:+0100
TZNAME:CET
DTSTART:20251026T010000
END:STANDARD
END:VTIMEZONE
BEGIN:VEVENT
DTSTART;TZID=Europe/Rome:20240407T090000
DTEND;TZID=Europe/Rome:20240407T173000
DTSTAMP:20260423T040812
CREATED:20240306T123446Z
LAST-MODIFIED:20240306T123715Z
UID:8068-1712480400-1712511000@liguria.agesci.it
SUMMARY:77° Assemblea regionale
DESCRIPTION:Carissimi capi\, \nDomenica 7 aprile 2024 è indetta la 77a Assemblea di Agesci Liguria con accoglienza e registrazioni alle ore 9.00 e inizio lavori alle 9.30 presso il PalaCep\, in via Benedicta 14\, Genova (Palacep). \nÈ richiesta l’iscrizione tramite BuonaCaccia (https://buonacaccia.net/event.aspx?e=19777). \nOrdine del giorno: \n– Percorso e approvazione nuovo regolamento assembleare \n– Tavola rotonda sul tema della RN24 – Generazioni di felicità \n– Lavori per branche sul tema: Educare alla vita cristiana\, Emmaus \n– Lavori per quadri sui temi di Consiglio generale: Verifica riforma Leonardo\, Sistema autorizzativo \n–  Elezioni ai seguenti ruoli: Incaricata regionale alla Formazione Capi\, Incaricata regionale all’Organizzazione\, Incaricato regionale alla branca Esploratori e Guide \n– Aggiornamenti Cooperativa Lo Scoiattolo \n– Aggiornamenti dalle branche e dai settori \n– Varie ed eventuali \nCelebreremo insieme la S. Messa. Si partecipa in uniforme e sarà necessario avere il pranzo al sacco di Comunità capi. È previsto un servizio di caffetteria e ristoro a cura di un clan. \nTermine dei lavori ore 17.30. \n  \nI Responsabili e l’Assistente regionale \nLorenzo Capelli\, Matilde Pugliaro\, Don Piero Spinetta
URL:https://liguria.agesci.it/evento/77-assemblea-regionale/
LOCATION:PalaCep\, via della Benedicta 14\, Genova\, GE\, 16157\, Italia
CATEGORIES:Agesci Liguria
ATTACH;FMTTYPE=image/jpeg:https://liguria.agesci.it/wp-content/uploads/2019/12/1dic2019_AssembleaAgesci_6938c-rid-1.jpg
ORGANIZER;CN="Agesci Liguria":MAILTO:segreg@liguria.agesci.it
END:VEVENT
BEGIN:VEVENT
DTSTART;TZID=Europe/Rome:20230416T090000
DTEND;TZID=Europe/Rome:20230416T180000
DTSTAMP:20260423T040812
CREATED:20230318T095519Z
LAST-MODIFIED:20230318T192209Z
UID:7238-1681635600-1681668000@liguria.agesci.it
SUMMARY:75° Assemblea regionale
DESCRIPTION:Carissime capo e carissimi capi\,\nla 75a Assemblea di Agesci Liguria è indetta presso il Seminario Arcivescovile Maggiore di Genova\, domenica 16 aprile 2023 apertura iscrizioni ore 9.00 e inizio lavori ore 9.30 con il seguente ordine del giorno: \n\nWorkshop sulle tematiche del prossimo Consiglio generale (scarica qui gli abstract)\nChiamate al servizio per:\n\nResponsabile regionale (femminile)\nIncaricata regionale alla Formazione Capi (femminile)\nIncaricata regionale all’Organizzazione (femminile)\nIncaricato regionale al Coordinamento Metodologico (maschile)\nIncaricato regionale alla Branca E/G (maschile)\nIncaricato regionale alla Branca R/S (maschile)\n\n\nAggiornamento mandati\nVarie ed eventuali\n\nÈ richiesta l’iscrizione tramite buonacaccia (https://buonacaccia.net/event.aspx?e=17296). In caso di impossibilità a partecipare\, si può delegare un altro partecipante scaricando e firmando il modulo di delega da questa pagina . Durante la giornata parteciperemo insieme alla S. Messa secondo la disponibilità dell’AE. La fine dei lavori è prevista per le ore 18.00. \nSi partecipa in uniforme e sarà necessario il pranzo al sacco. Sarà presente un clan per servizio bar sin dalla mattina. \nI Responsabili e l’AE Regionali \nAnna Risso\, Lorenzo Capelli\, don Piero Spinetta \n\n📱 Sarà necessario avere l’app Agesci funzionante sin dalla registrazione del mattino. Scaricala qui. \n🗂️ I documenti preparatori saranno man mano resi disponibili al seguente link: https://drive.google.com/drive/folders/1wZrKK1fFXB–ZrHbTKPnoPHJWaMywlCg?usp=share_link \nChi avesse materiale da inserire nella cartella\, presentazioni di candidature\, o altra documentazione utile è pregato di inviarla via mail a iro@liguria.agesci.it  \n\nInoltre\, sabato 15 aprile ci saranno 3 laboratori aperti a capi ed R/S maggiorenni: \n\n\nBLSD e primo soccorso\, con rilascio di certificazione\, sia al mattino che al pomeriggio \n\n\ncorso per volontari di protezione civile e sicurezza in attività\, di cui alleghiamo volantino; al termine aperitivo aperto a tutti gli interessati
URL:https://liguria.agesci.it/evento/75-assemblea-regionale/
LOCATION:GE
CATEGORIES:Agesci Liguria
ATTACH;FMTTYPE=image/jpeg:https://liguria.agesci.it/wp-content/uploads/2023/03/73AssembleaAgesciLiguria2022_02-scaled.jpg
ORGANIZER;CN="Agesci Liguria":MAILTO:segreg@liguria.agesci.it
END:VEVENT
BEGIN:VEVENT
DTSTART;TZID=Europe/Rome:20220403T090000
DTEND;TZID=Europe/Rome:20220403T173000
DTSTAMP:20260423T040812
CREATED:20220313T235105Z
LAST-MODIFIED:20220323T132114Z
UID:6186-1648976400-1649007000@liguria.agesci.it
SUMMARY:73° Assemblea regionale
DESCRIPTION:Carissimi capi\, \ncon gioia vi comunichiamo che quest’anno ritorneremo a svolgere la nostra assemblea in presenza! \nIncontrarci sarà occasione per fare festa e ripartire insieme\, era il nostro desiderio più grande\, con tutte le attenzioni del caso vorremmo fosse un segnale di speranza. \nLa 73° assemblea regionale di Agesci Liguria è indetta a Genova nell’anfiteatro di Forte Begato domenica 3 aprile 2022 alle ore 9\,00 con il seguente ordine del giorno: \n\ndiscussione e approvazione relazioni comitato\, branche e settori\napprovazione bilancio consuntivo e preventivo\napprovazione del programma regionale 2022/2023\ncandidature ed elezione dei seguenti ruoli:\n\nIncaricato alla Formazione Capi\nIncaricata all’Organizzazione\nIncaricata alla Branca Esploratori/Guide\n\n\npresentazione progetto sede regionale via di Mascherona\nlavori di gruppo su tematiche del consiglio generale\npresentazione azioni prioritarie regionali\nMessa concelebrata dall’arcivescovo di Genova Mons. Padre Marco Tasca alle 14.30\n\n  \nÈ necessario iscriversi all’assemblea utilizzando il seguente link https://buonacaccia.net/event.aspx?e=15006 \nSeguiranno ulteriori informazioni sulle modalità di accesso\, logistiche ed altro. \nIl termine dell’assemblea è previsto per le 17.30. \nLe quote di iscrizione e il modulo per la delega sono scaricabili al seguente link: \nhttps://drive.google.com/drive/folders/1DqwuWptdAaWqt77JpGV757kwByZ8iv4J?usp=sharing \nNella serata di martedì 22 marzo h.21.00 è indetta una serata online con temi di approfondimento preparatori all’assemblea generale alla quale sono tenuti a partecipare almeno un delegato per gruppo\, di seguito la modalità di accesso. \nQui tutti i dettagli logistici.
URL:https://liguria.agesci.it/evento/73-assemblea-regionale/
LOCATION:Forte Begato\, via al forte di Begato\, Genova\, Italia
CATEGORIES:Agesci Liguria
ATTACH;FMTTYPE=image/png:https://liguria.agesci.it/wp-content/uploads/2022/03/fortebegato.png
ORGANIZER;CN="Agesci Liguria":MAILTO:segreg@liguria.agesci.it
END:VEVENT
END:VCALENDAR